BEGIN:VCALENDAR
VERSION:2.0
PRODID:-//Liberty Church Network - ECPv6.15.20//NONSGML v1.0//EN
CALSCALE:GREGORIAN
METHOD:PUBLISH
X-WR-CALNAME:Liberty Church Network
X-ORIGINAL-URL:https://libertychurchnetwork.com
X-WR-CALDESC:Events for Liberty Church Network
REFRESH-INTERVAL;VALUE=DURATION:PT1H
X-Robots-Tag:noindex
X-PUBLISHED-TTL:PT1H
BEGIN:VTIMEZONE
TZID:America/New_York
BEGIN:DAYLIGHT
TZOFFSETFROM:-0500
TZOFFSETTO:-0400
TZNAME:EDT
DTSTART:20250309T070000
END:DAYLIGHT
BEGIN:STANDARD
TZOFFSETFROM:-0400
TZOFFSETTO:-0500
TZNAME:EST
DTSTART:20251102T060000
END:STANDARD
BEGIN:DAYLIGHT
TZOFFSETFROM:-0500
TZOFFSETTO:-0400
TZNAME:EDT
DTSTART:20260308T070000
END:DAYLIGHT
BEGIN:STANDARD
TZOFFSETFROM:-0400
TZOFFSETTO:-0500
TZNAME:EST
DTSTART:20261101T060000
END:STANDARD
BEGIN:DAYLIGHT
TZOFFSETFROM:-0500
TZOFFSETTO:-0400
TZNAME:EDT
DTSTART:20270314T070000
END:DAYLIGHT
BEGIN:STANDARD
TZOFFSETFROM:-0400
TZOFFSETTO:-0500
TZNAME:EST
DTSTART:20271107T060000
END:STANDARD
END:VTIMEZONE
BEGIN:VEVENT
DTSTART;TZID=America/New_York:20260409T113000
DTEND;TZID=America/New_York:20260409T140000
DTSTAMP:20260424T231118
CREATED:20260119T190232Z
LAST-MODIFIED:20260119T190337Z
UID:10000044-1775734200-1775743200@libertychurchnetwork.com
SUMMARY:Refuel One Day - Yorktown\, VA
DESCRIPTION:
URL:https://libertychurchnetwork.com/event/refuel-one-day-yorktown-va/
LOCATION:Coastal Church Yorktown\, 101 Village Avenue\, Yorktown\, VA\, 23693\, United States
CATEGORIES:Refuel One Day,Yorktown VA
GEO:37.1159323;-76.4623656
X-APPLE-STRUCTURED-LOCATION;VALUE=URI;X-ADDRESS=Coastal Church Yorktown 101 Village Avenue Yorktown VA 23693 United States;X-APPLE-RADIUS=500;X-TITLE=101 Village Avenue:geo:-76.4623656,37.1159323
END:VEVENT
BEGIN:VEVENT
DTSTART;TZID=America/New_York:20260324T093000
DTEND;TZID=America/New_York:20260324T140000
DTSTAMP:20260424T231118
CREATED:20251003T144507Z
LAST-MODIFIED:20251031T211947Z
UID:10000042-1774344600-1774360800@libertychurchnetwork.com
SUMMARY:Refuel One Day - Radford\, VA
DESCRIPTION:
URL:https://libertychurchnetwork.com/event/refuel-one-day-radford-va/
LOCATION:Calvary Baptist Church Radford\, 624 Sixth Street\, Radford\, VA\, 24141
CATEGORIES:Radford VA,Refuel One Day
ORGANIZER;CN="Tim Worles":MAILTO:tworles@cbcradford.com
END:VEVENT
BEGIN:VEVENT
DTSTART;TZID=America/New_York:20260304T110000
DTEND;TZID=America/New_York:20260304T130000
DTSTAMP:20260424T231118
CREATED:20251003T144358Z
LAST-MODIFIED:20260228T141800Z
UID:10000041-1772622000-1772629200@libertychurchnetwork.com
SUMMARY:Refuel One Day - Columbus\, OH
DESCRIPTION:
URL:https://libertychurchnetwork.com/event/refuel-one-day-columbus-oh/
LOCATION:Sycamore Creek Church\, 8100 Refugee Road\, Pickerington\, OH\, 43147
CATEGORIES:Columbus OH,Refuel One Day
ORGANIZER;CN="Steve Markle":MAILTO:smarkle@sycamorecreek.org
GEO:39.9090731;-82.7392244
X-APPLE-STRUCTURED-LOCATION;VALUE=URI;X-ADDRESS=Sycamore Creek Church 8100 Refugee Road Pickerington OH 43147;X-APPLE-RADIUS=500;X-TITLE=8100 Refugee Road:geo:-82.7392244,39.9090731
END:VEVENT
BEGIN:VEVENT
DTSTART;TZID=America/New_York:20260303T090000
DTEND;TZID=America/New_York:20260303T150000
DTSTAMP:20260424T231118
CREATED:20251003T144258Z
LAST-MODIFIED:20251031T212118Z
UID:10000040-1772528400-1772550000@libertychurchnetwork.com
SUMMARY:Refuel One Day - Indianapolis\, IN
DESCRIPTION:
URL:https://libertychurchnetwork.com/event/refuel-one-day-indianapolis-in/
LOCATION:Harmony Baptist Church of Avon\, 5693 Broyles Road\, Avon\, IN\, 46123\, United States
CATEGORIES:Indianapolis IN,Refuel One Day
ORGANIZER;CN="Jon Lilly":MAILTO:jon@harmonyofavon.com
GEO:39.759554;-86.42498
X-APPLE-STRUCTURED-LOCATION;VALUE=URI;X-ADDRESS=Harmony Baptist Church of Avon 5693 Broyles Road Avon IN 46123 United States;X-APPLE-RADIUS=500;X-TITLE=5693 Broyles Road:geo:-86.42498,39.759554
END:VEVENT
BEGIN:VEVENT
DTSTART;TZID=America/New_York:20260224T090000
DTEND;TZID=America/New_York:20260224T150000
DTSTAMP:20260424T231118
CREATED:20251003T144131Z
LAST-MODIFIED:20260130T152059Z
UID:10000039-1771923600-1771945200@libertychurchnetwork.com
SUMMARY:Refuel One Day - Pittsburgh\, PA
DESCRIPTION:
URL:https://libertychurchnetwork.com/event/refuel-one-day-pittsburgh-pa/
LOCATION:Crossroads Ministries Finleyville\, 81 Walter Long Road\, Finleyville\, PA\, 15332
CATEGORIES:Pittsburgh PA,Refuel One Day
ORGANIZER;CN="Ken Barner":MAILTO:pastorken@crossroadsministries.com
GEO:40.2669057;-80.0161912
X-APPLE-STRUCTURED-LOCATION;VALUE=URI;X-ADDRESS=Crossroads Ministries Finleyville 81 Walter Long Road Finleyville PA 15332;X-APPLE-RADIUS=500;X-TITLE=81 Walter Long Road:geo:-80.0161912,40.2669057
END:VEVENT
BEGIN:VEVENT
DTSTART;TZID=America/New_York:20260122T083000
DTEND;TZID=America/New_York:20260122T143000
DTSTAMP:20260424T231118
CREATED:20251003T144005Z
LAST-MODIFIED:20251031T211909Z
UID:10000038-1769070600-1769092200@libertychurchnetwork.com
SUMMARY:Refuel One Day - Pompano\, FL
DESCRIPTION:
URL:https://libertychurchnetwork.com/event/refuel-one-day-pompano-fl/
LOCATION:Grace Church of Pompano\, 501 NE 48th Street\, Pompano Beach\, FL\, 33064
CATEGORIES:Pompano Beach FL,Refuel One Day
ORGANIZER;CN="Gary Colboch":MAILTO:gary.colboch@gbcfl.org
END:VEVENT
END:VCALENDAR